Package: speckle Version: 1.7.0 Command: E:\biocbuild\bbs-3.21-bioc\R\bin\R.exe CMD INSTALL speckle StartedAt: 2025-02-17 16:15:41 -0500 (Mon, 17 Feb 2025) EndedAt: 2025-02-17 16:16:29 -0500 (Mon, 17 Feb 2025) EllapsedTime: 47.4 seconds RetCode: 0 Status: OK