Package: speckle Version: 1.7.0 Command: chmod a+r speckle -R && E:\biocbuild\bbs-3.21-bioc\R\bin\R.exe CMD build --keep-empty-dirs --no-resave-data speckle StartedAt: 2025-02-17 21:41:52 -0500 (Mon, 17 Feb 2025) EndedAt: 2025-02-17 21:43:48 -0500 (Mon, 17 Feb 2025) EllapsedTime: 115.2 seconds RetCode: 0 Status: OK PackageFile: speckle_1.7.0.tar.gz PackageFileSize: 559.2 KiB