Package: speckle Version: 1.7.0 Command: /home/biocbuild/bbs-3.21-bioc/R/bin/R CMD INSTALL speckle StartedAt: 2025-02-17 15:22:10 -0500 (Mon, 17 Feb 2025) EndedAt: 2025-02-17 15:22:45 -0500 (Mon, 17 Feb 2025) EllapsedTime: 35.0 seconds RetCode: 0 Status: OK