Package: speckle Version: 1.7.0 Command: /home/biocbuild/bbs-3.21-bioc/R/bin/R CMD build --keep-empty-dirs --no-resave-data speckle StartedAt: 2025-02-17 19:17:32 -0500 (Mon, 17 Feb 2025) EndedAt: 2025-02-17 19:18:54 -0500 (Mon, 17 Feb 2025) EllapsedTime: 81.1 seconds RetCode: 0 Status: OK PackageFile: speckle_1.7.0.tar.gz PackageFileSize: 1.372 MiB