Package: specL Version: 1.41.0 Command: chmod a+r specL -R && E:\biocbuild\bbs-3.21-bioc\R\bin\R.exe CMD build --keep-empty-dirs --no-resave-data specL StartedAt: 2025-02-19 21:50:45 -0500 (Wed, 19 Feb 2025) EndedAt: 2025-02-19 21:51:25 -0500 (Wed, 19 Feb 2025) EllapsedTime: 40.2 seconds RetCode: 0 Status: OK PackageFile: specL_1.41.0.tar.gz PackageFileSize: 1.387 MiB