Package: specL Version: 1.41.0 Command: /Library/Frameworks/R.framework/Resources/bin/R CMD build --keep-empty-dirs --no-resave-data specL StartedAt: 2025-02-18 18:19:55 -0500 (Tue, 18 Feb 2025) EndedAt: 2025-02-18 18:20:22 -0500 (Tue, 18 Feb 2025) EllapsedTime: 27.2 seconds RetCode: 0 Status: OK PackageFile: specL_1.41.0.tar.gz PackageFileSize: 2.057 MiB