Package: spatzie Version: 1.13.0 Command: rm -rf spatzie.buildbin-libdir && mkdir spatzie.buildbin-libdir && E:\biocbuild\bbs-3.21-bioc\R\bin\R.exe CMD INSTALL --build --library=spatzie.buildbin-libdir spatzie_1.13.0.tar.gz StartedAt: 2025-02-22 09:24:50 -0500 (Sat, 22 Feb 2025) EndedAt: 2025-02-22 09:26:27 -0500 (Sat, 22 Feb 2025) EllapsedTime: 97.3 seconds RetCode: 0 Status: OK PackageFile: spatzie_1.13.0.zip PackageFileSize: 2.412 MiB