Package: spatzie Version: 1.13.0 Command: /Library/Frameworks/R.framework/Resources/bin/R CMD INSTALL spatzie StartedAt: 2025-02-21 15:30:03 -0500 (Fri, 21 Feb 2025) EndedAt: 2025-02-21 15:31:18 -0500 (Fri, 21 Feb 2025) EllapsedTime: 74.9 seconds RetCode: 0 Status: OK