Package: spatzie Version: 1.13.0 Command: /Library/Frameworks/R.framework/Resources/bin/R CMD check --install=check:spatzie.install-out.txt --library=/Library/Frameworks/R.framework/Resources/library --no-vignettes --timings spatzie_1.13.0.tar.gz StartedAt: 2025-02-21 23:28:23 -0500 (Fri, 21 Feb 2025) EndedAt: 2025-02-21 23:35:29 -0500 (Fri, 21 Feb 2025) EllapsedTime: 426.1 seconds RetCode: 0 Status: OK CheckDir: spatzie.Rcheck Warnings: 0