Package: spatzie Version: 1.13.0 Command: /home/biocbuild/R/R/bin/R CMD check --install=check:spatzie.install-out.txt --library=/home/biocbuild/R/R/site-library --no-vignettes --timings spatzie_1.13.0.tar.gz StartedAt: 2025-01-28 15:36:21 -0000 (Tue, 28 Jan 2025) EndedAt: 2025-01-28 15:45:18 -0000 (Tue, 28 Jan 2025) EllapsedTime: 536.6 seconds RetCode: 0 Status: WARNINGS CheckDir: spatzie.Rcheck Warnings: 5