Package: spatzie Version: 1.13.0 Command: rm -rf spatzie.buildbin-libdir && mkdir spatzie.buildbin-libdir && /Users/biocbuild/BBS/utils/build-universal.sh spatzie_1.13.0.tar.gz /Library/Frameworks/R.framework/Resources/bin/R spatzie.buildbin-libdir StartedAt: 2025-02-21 23:14:02 -0500 (Fri, 21 Feb 2025) EndedAt: 2025-02-21 23:14:27 -0500 (Fri, 21 Feb 2025) EllapsedTime: 24.5 seconds RetCode: 0 Status: OK PackageFile: spatzie_1.13.0.tgz PackageFileSize: 2.409 MiB