Package: spatialSimGP Version: 1.1.0 Command: E:\biocbuild\bbs-3.21-bioc\R\bin\R.exe CMD check --no-multiarch --install=check:spatialSimGP.install-out.txt --library=E:\biocbuild\bbs-3.21-bioc\R\library --no-vignettes --timings spatialSimGP_1.1.0.tar.gz StartedAt: 2025-02-21 06:01:34 -0500 (Fri, 21 Feb 2025) EndedAt: 2025-02-21 06:05:37 -0500 (Fri, 21 Feb 2025) EllapsedTime: 243.0 seconds RetCode: 0 Status: OK CheckDir: spatialSimGP.Rcheck Warnings: 0