Package: spatialSimGP Version: 1.1.0 Command: rm -rf spatialSimGP.buildbin-libdir && mkdir spatialSimGP.buildbin-libdir && E:\biocbuild\bbs-3.21-bioc\R\bin\R.exe CMD INSTALL --build --library=spatialSimGP.buildbin-libdir spatialSimGP_1.1.0.tar.gz StartedAt: 2025-02-21 09:10:13 -0500 (Fri, 21 Feb 2025) EndedAt: 2025-02-21 09:10:42 -0500 (Fri, 21 Feb 2025) EllapsedTime: 28.6 seconds RetCode: 0 Status: OK PackageFile: spatialSimGP_1.1.0.zip PackageFileSize: 374.7 KiB