Package: spatialSimGP Version: 1.1.0 Command: /home/biocbuild/bbs-3.21-bioc/R/bin/R CMD check --install=check:spatialSimGP.install-out.txt --library=/home/biocbuild/bbs-3.21-bioc/R/site-library --timings spatialSimGP_1.1.0.tar.gz StartedAt: 2025-02-21 02:10:26 -0500 (Fri, 21 Feb 2025) EndedAt: 2025-02-21 02:13:41 -0500 (Fri, 21 Feb 2025) EllapsedTime: 195.3 seconds RetCode: 0 Status: OK CheckDir: spatialSimGP.Rcheck Warnings: 0