Package: spatialSimGP Version: 1.1.0 Command: /home/biocbuild/bbs-3.21-bioc/R/bin/R CMD build --keep-empty-dirs --no-resave-data spatialSimGP StartedAt: 2025-02-20 19:24:49 -0500 (Thu, 20 Feb 2025) EndedAt: 2025-02-20 19:25:53 -0500 (Thu, 20 Feb 2025) EllapsedTime: 64.1 seconds RetCode: 0 Status: OK PackageFile: spatialSimGP_1.1.0.tar.gz PackageFileSize: 694.6 KiB