Package: spatialSimGP Version: 1.1.0 Command: /Library/Frameworks/R.framework/Resources/bin/R CMD build --keep-empty-dirs --no-resave-data spatialSimGP StartedAt: 2025-02-20 18:21:49 -0500 (Thu, 20 Feb 2025) EndedAt: 2025-02-20 18:22:58 -0500 (Thu, 20 Feb 2025) EllapsedTime: 69.6 seconds RetCode: 0 Status: OK PackageFile: spatialSimGP_1.1.0.tar.gz PackageFileSize: 732.5 KiB