Package: spatialSimGP Version: 1.1.0 Command: /Library/Frameworks/R.framework/Resources/bin/R CMD INSTALL spatialSimGP StartedAt: 2025-02-20 15:08:41 -0500 (Thu, 20 Feb 2025) EndedAt: 2025-02-20 15:08:52 -0500 (Thu, 20 Feb 2025) EllapsedTime: 10.8 seconds RetCode: 0 Status: OK