Package: spatialSimGP Version: 1.1.0 Command: /Library/Frameworks/R.framework/Resources/bin/R CMD check --install=check:spatialSimGP.install-out.txt --library=/Library/Frameworks/R.framework/Resources/library --no-vignettes --timings spatialSimGP_1.1.0.tar.gz StartedAt: 2025-02-20 21:35:01 -0500 (Thu, 20 Feb 2025) EndedAt: 2025-02-20 21:36:18 -0500 (Thu, 20 Feb 2025) EllapsedTime: 77.9 seconds RetCode: 0 Status: OK CheckDir: spatialSimGP.Rcheck Warnings: 0