Package: spatialSimGP Version: 1.2.0 Command: /Library/Frameworks/R.framework/Resources/bin/R CMD INSTALL spatialSimGP StartedAt: 2025-10-13 16:58:55 -0400 (Mon, 13 Oct 2025) EndedAt: 2025-10-13 16:59:23 -0400 (Mon, 13 Oct 2025) EllapsedTime: 27.4 seconds RetCode: 0 Status: OK