Package: spatialSimGP Version: 1.2.0 Command: /Library/Frameworks/R.framework/Resources/bin/R CMD build --keep-empty-dirs --no-resave-data spatialSimGP StartedAt: 2025-10-14 10:06:28 -0400 (Tue, 14 Oct 2025) EndedAt: 2025-10-14 10:07:54 -0400 (Tue, 14 Oct 2025) EllapsedTime: 85.9 seconds RetCode: 0 Status: OK PackageFile: spatialSimGP_1.2.0.tar.gz PackageFileSize: 734.4 KiB