Package: spatialHeatmap Version: 2.13.1 Command: E:\biocbuild\bbs-3.21-bioc\R\bin\R.exe CMD INSTALL spatialHeatmap StartedAt: 2025-02-20 16:47:12 -0500 (Thu, 20 Feb 2025) EndedAt: 2025-02-20 16:50:20 -0500 (Thu, 20 Feb 2025) EllapsedTime: 188.2 seconds RetCode: 0 Status: OK