Package: spatialHeatmap Version: 2.13.1 Command: E:\biocbuild\bbs-3.21-bioc\R\bin\R.exe CMD check --no-multiarch --install=check:spatialHeatmap.install-out.txt --library=E:\biocbuild\bbs-3.21-bioc\R\library --no-vignettes --timings spatialHeatmap_2.13.1.tar.gz StartedAt: 2025-02-21 06:01:18 -0500 (Fri, 21 Feb 2025) EndedAt: 2025-02-21 06:09:24 -0500 (Fri, 21 Feb 2025) EllapsedTime: 486.4 seconds RetCode: 0 Status: OK CheckDir: spatialHeatmap.Rcheck Warnings: 0