Package: spatialHeatmap Version: 2.13.1 Command: chmod a+r spatialHeatmap -R && E:\biocbuild\bbs-3.21-bioc\R\bin\R.exe CMD build --keep-empty-dirs --no-resave-data spatialHeatmap StartedAt: 2025-02-20 21:59:10 -0500 (Thu, 20 Feb 2025) EndedAt: 2025-02-20 22:14:49 -0500 (Thu, 20 Feb 2025) EllapsedTime: 938.8 seconds RetCode: 0 Status: OK PackageFile: spatialHeatmap_2.13.1.tar.gz PackageFileSize: 27 MiB