Package: spatialHeatmap Version: 2.13.1 Command: rm -rf spatialHeatmap.buildbin-libdir && mkdir spatialHeatmap.buildbin-libdir && E:\biocbuild\bbs-3.21-bioc\R\bin\R.exe CMD INSTALL --build --library=spatialHeatmap.buildbin-libdir spatialHeatmap_2.13.1.tar.gz StartedAt: 2025-02-21 09:10:10 -0500 (Fri, 21 Feb 2025) EndedAt: 2025-02-21 09:12:40 -0500 (Fri, 21 Feb 2025) EllapsedTime: 149.8 seconds RetCode: 0 Status: OK PackageFile: spatialHeatmap_2.13.1.zip PackageFileSize: 26.72 MiB