Package: spatialHeatmap Version: 2.13.1 Command: /home/biocbuild/bbs-3.21-bioc/R/bin/R CMD check --install=check:spatialHeatmap.install-out.txt --library=/home/biocbuild/bbs-3.21-bioc/R/site-library --timings spatialHeatmap_2.13.1.tar.gz StartedAt: 2025-02-20 02:45:12 -0500 (Thu, 20 Feb 2025) EndedAt: 2025-02-20 02:55:27 -0500 (Thu, 20 Feb 2025) EllapsedTime: 614.7 seconds RetCode: 0 Status: OK CheckDir: spatialHeatmap.Rcheck Warnings: 0