Package: spatialHeatmap Version: 2.13.1 Command: /home/biocbuild/bbs-3.21-bioc/R/bin/R CMD build --keep-empty-dirs --no-resave-data spatialHeatmap StartedAt: 2025-02-19 19:21:19 -0500 (Wed, 19 Feb 2025) EndedAt: 2025-02-19 19:25:46 -0500 (Wed, 19 Feb 2025) EllapsedTime: 267.3 seconds RetCode: 0 Status: OK PackageFile: spatialHeatmap_2.13.1.tar.gz PackageFileSize: 31.44 MiB