Package: spatialHeatmap Version: 2.13.1 Command: /Library/Frameworks/R.framework/Resources/bin/R CMD build --keep-empty-dirs --no-resave-data spatialHeatmap StartedAt: 2025-02-20 18:21:32 -0500 (Thu, 20 Feb 2025) EndedAt: 2025-02-20 18:26:23 -0500 (Thu, 20 Feb 2025) EllapsedTime: 291.2 seconds RetCode: 0 Status: OK PackageFile: spatialHeatmap_2.13.1.tar.gz PackageFileSize: 32.37 MiB