Package: spatialHeatmap Version: 2.14.1 Command: /home/biocbuild/R/R/bin/R CMD INSTALL spatialHeatmap StartedAt: 2025-10-09 20:48:19 -0000 (Thu, 09 Oct 2025) EndedAt: 2025-10-09 20:49:19 -0000 (Thu, 09 Oct 2025) EllapsedTime: 60.1 seconds RetCode: 0 Status: OK