Package: spatialFDA Version: 0.99.11 Command: /Library/Frameworks/R.framework/Resources/bin/R CMD build --keep-empty-dirs --no-resave-data spatialFDA StartedAt: 2025-02-18 17:44:05 -0500 (Tue, 18 Feb 2025) EndedAt: 2025-02-18 17:46:37 -0500 (Tue, 18 Feb 2025) EllapsedTime: 151.7 seconds RetCode: 0 Status: OK PackageFile: spatialFDA_0.99.11.tar.gz PackageFileSize: 3.638 MiB