Package: spatialFDA Version: 1.0.0 Command: /Library/Frameworks/R.framework/Resources/bin/R CMD INSTALL spatialFDA StartedAt: 2025-10-13 16:29:09 -0400 (Mon, 13 Oct 2025) EndedAt: 2025-10-13 16:29:49 -0400 (Mon, 13 Oct 2025) EllapsedTime: 40.0 seconds RetCode: 0 Status: OK