Package: spatialFDA Version: 1.0.0 Command: /Library/Frameworks/R.framework/Resources/bin/R CMD build --keep-empty-dirs --no-resave-data spatialFDA StartedAt: 2025-10-14 10:05:19 -0400 (Tue, 14 Oct 2025) EndedAt: 2025-10-14 10:10:01 -0400 (Tue, 14 Oct 2025) EllapsedTime: 282.2 seconds RetCode: 0 Status: OK PackageFile: spatialFDA_1.0.0.tar.gz PackageFileSize: 3.943 MiB