Package: sparsenetgls Version: 1.25.0 Command: E:\biocbuild\bbs-3.21-bioc\R\bin\R.exe CMD INSTALL sparsenetgls StartedAt: 2025-02-20 15:54:12 -0500 (Thu, 20 Feb 2025) EndedAt: 2025-02-20 15:54:36 -0500 (Thu, 20 Feb 2025) EllapsedTime: 23.7 seconds RetCode: 0 Status: OK