Package: sparsenetgls Version: 1.25.0 Command: rm -rf sparsenetgls.buildbin-libdir && mkdir sparsenetgls.buildbin-libdir && E:\biocbuild\bbs-3.21-bioc\R\bin\R.exe CMD INSTALL --build --library=sparsenetgls.buildbin-libdir sparsenetgls_1.25.0.tar.gz StartedAt: 2025-02-21 09:09:43 -0500 (Fri, 21 Feb 2025) EndedAt: 2025-02-21 09:10:02 -0500 (Fri, 21 Feb 2025) EllapsedTime: 19.0 seconds RetCode: 0 Status: OK PackageFile: sparsenetgls_1.25.0.zip PackageFileSize: 329 KiB