Package: sparsenetgls Version: 1.25.0 Command: /home/biocbuild/bbs-3.21-bioc/R/bin/R CMD INSTALL sparsenetgls StartedAt: 2025-02-20 15:09:46 -0500 (Thu, 20 Feb 2025) EndedAt: 2025-02-20 15:09:52 -0500 (Thu, 20 Feb 2025) EllapsedTime: 6.2 seconds RetCode: 0 Status: OK