Package: sparsenetgls Version: 1.25.0 Command: /home/biocbuild/bbs-3.21-bioc/R/bin/R CMD build --keep-empty-dirs --no-resave-data sparsenetgls StartedAt: 2025-02-20 19:22:59 -0500 (Thu, 20 Feb 2025) EndedAt: 2025-02-20 19:26:10 -0500 (Thu, 20 Feb 2025) EllapsedTime: 191.2 seconds RetCode: 0 Status: OK PackageFile: sparsenetgls_1.25.0.tar.gz PackageFileSize: 624.9 KiB