Package: sparseMatrixStats Version: 1.19.0 Command: rm -rf sparseMatrixStats.buildbin-libdir && mkdir sparseMatrixStats.buildbin-libdir && E:\biocbuild\bbs-3.21-bioc\R\bin\R.exe CMD INSTALL --build --library=sparseMatrixStats.buildbin-libdir sparseMatrixStats_1.19.0.tar.gz StartedAt: 2025-02-19 08:28:29 -0500 (Wed, 19 Feb 2025) EndedAt: 2025-02-19 08:30:52 -0500 (Wed, 19 Feb 2025) EllapsedTime: 142.6 seconds RetCode: 0 Status: OK PackageFile: sparseMatrixStats_1.19.0.zip PackageFileSize: 1.426 MiB