Package: sparseMatrixStats Version: 1.19.0 Command: /home/biocbuild/bbs-3.21-bioc/R/bin/R CMD build --keep-empty-dirs --no-resave-data sparseMatrixStats StartedAt: 2025-02-20 19:22:36 -0500 (Thu, 20 Feb 2025) EndedAt: 2025-02-20 19:23:08 -0500 (Thu, 20 Feb 2025) EllapsedTime: 32.0 seconds RetCode: 0 Status: OK PackageFile: sparseMatrixStats_1.19.0.tar.gz PackageFileSize: 687.7 KiB