Package: sparseMatrixStats Version: 1.20.0 Command: /Library/Frameworks/R.framework/Resources/bin/R CMD build --keep-empty-dirs --no-resave-data sparseMatrixStats StartedAt: 2025-09-29 22:50:32 -0400 (Mon, 29 Sep 2025) EndedAt: 2025-09-29 22:51:37 -0400 (Mon, 29 Sep 2025) EllapsedTime: 64.9 seconds RetCode: 0 Status: OK PackageFile: sparseMatrixStats_1.20.0.tar.gz PackageFileSize: 687.6 KiB