Package: sparseMatrixStats Version: 1.19.0 Command: /Library/Frameworks/R.framework/Resources/bin/R CMD check --install=check:sparseMatrixStats.install-out.txt --library=/Library/Frameworks/R.framework/Resources/library --no-vignettes --timings sparseMatrixStats_1.19.0.tar.gz StartedAt: 2025-02-18 23:20:02 -0500 (Tue, 18 Feb 2025) EndedAt: 2025-02-18 23:21:11 -0500 (Tue, 18 Feb 2025) EllapsedTime: 68.8 seconds RetCode: 0 Status: OK CheckDir: sparseMatrixStats.Rcheck Warnings: 0