Package: sparrow Version: 1.13.4 Command: rm -rf sparrow.buildbin-libdir && mkdir sparrow.buildbin-libdir && E:\biocbuild\bbs-3.21-bioc\R\bin\R.exe CMD INSTALL --build --library=sparrow.buildbin-libdir sparrow_1.13.4.tar.gz StartedAt: 2025-02-21 09:09:27 -0500 (Fri, 21 Feb 2025) EndedAt: 2025-02-21 09:11:13 -0500 (Fri, 21 Feb 2025) EllapsedTime: 106.0 seconds RetCode: 0 Status: OK PackageFile: sparrow_1.13.4.zip PackageFileSize: 4.279 MiB