Package: sparrow Version: 1.13.4 Command: /home/biocbuild/bbs-3.21-bioc/R/bin/R CMD INSTALL sparrow StartedAt: 2025-02-20 15:40:04 -0500 (Thu, 20 Feb 2025) EndedAt: 2025-02-20 15:40:33 -0500 (Thu, 20 Feb 2025) EllapsedTime: 29.1 seconds RetCode: 0 Status: OK