Package: sparrow Version: 1.13.4 Command: /Library/Frameworks/R.framework/Resources/bin/R CMD INSTALL sparrow StartedAt: 2025-02-20 15:26:23 -0500 (Thu, 20 Feb 2025) EndedAt: 2025-02-20 15:27:04 -0500 (Thu, 20 Feb 2025) EllapsedTime: 40.8 seconds RetCode: 0 Status: OK