Package: sparrow Version: 1.13.4 Command: /Library/Frameworks/R.framework/Resources/bin/R CMD build --keep-empty-dirs --no-resave-data sparrow StartedAt: 2025-02-20 18:20:45 -0500 (Thu, 20 Feb 2025) EndedAt: 2025-02-20 18:24:00 -0500 (Thu, 20 Feb 2025) EllapsedTime: 195.2 seconds RetCode: 0 Status: OK PackageFile: sparrow_1.13.4.tar.gz PackageFileSize: 4.212 MiB