Package: sparrow Version: 1.13.4 Command: rm -rf sparrow.buildbin-libdir && mkdir sparrow.buildbin-libdir && /Users/biocbuild/BBS/utils/build-universal.sh sparrow_1.13.4.tar.gz /Library/Frameworks/R.framework/Resources/bin/R sparrow.buildbin-libdir StartedAt: 2025-02-21 00:54:51 -0500 (Fri, 21 Feb 2025) EndedAt: 2025-02-21 00:55:35 -0500 (Fri, 21 Feb 2025) EllapsedTime: 44.9 seconds RetCode: 0 Status: OK PackageFile: sparrow_1.13.4.tgz PackageFileSize: 4.639 MiB