Package: sparrow Version: 1.13.4 Command: /Library/Frameworks/R.framework/Resources/bin/R CMD INSTALL sparrow StartedAt: 2025-02-20 15:16:39 -0500 (Thu, 20 Feb 2025) EndedAt: 2025-02-20 15:16:51 -0500 (Thu, 20 Feb 2025) EllapsedTime: 12.0 seconds RetCode: 0 Status: OK