Package: sparrow Version: 1.13.4 Command: /Library/Frameworks/R.framework/Resources/bin/R CMD check --install=check:sparrow.install-out.txt --library=/Library/Frameworks/R.framework/Resources/library --no-vignettes --timings sparrow_1.13.4.tar.gz StartedAt: 2025-02-20 21:33:04 -0500 (Thu, 20 Feb 2025) EndedAt: 2025-02-20 21:36:54 -0500 (Thu, 20 Feb 2025) EllapsedTime: 229.6 seconds RetCode: 0 Status: OK CheckDir: sparrow.Rcheck Warnings: 0