Package: spaSim Version: 1.9.0 Command: E:\biocbuild\bbs-3.21-bioc\R\bin\R.exe CMD INSTALL spaSim StartedAt: 2025-02-20 16:20:05 -0500 (Thu, 20 Feb 2025) EndedAt: 2025-02-20 16:20:39 -0500 (Thu, 20 Feb 2025) EllapsedTime: 34.0 seconds RetCode: 0 Status: OK