Package: spaSim Version: 1.9.0 Command: chmod a+r spaSim -R && E:\biocbuild\bbs-3.21-bioc\R\bin\R.exe CMD build --keep-empty-dirs --no-resave-data spaSim StartedAt: 2025-02-20 21:57:22 -0500 (Thu, 20 Feb 2025) EndedAt: 2025-02-20 21:59:43 -0500 (Thu, 20 Feb 2025) EllapsedTime: 141.1 seconds RetCode: 0 Status: OK PackageFile: spaSim_1.9.0.tar.gz PackageFileSize: 1004 KiB