Package: spaSim Version: 1.9.0 Command: /home/biocbuild/bbs-3.21-bioc/R/bin/R CMD INSTALL spaSim StartedAt: 2025-02-20 15:44:19 -0500 (Thu, 20 Feb 2025) EndedAt: 2025-02-20 15:44:44 -0500 (Thu, 20 Feb 2025) EllapsedTime: 25.0 seconds RetCode: 0 Status: OK