Package: spaSim Version: 1.9.0 Command: /home/biocbuild/bbs-3.21-bioc/R/bin/R CMD build --keep-empty-dirs --no-resave-data spaSim StartedAt: 2025-02-20 19:23:08 -0500 (Thu, 20 Feb 2025) EndedAt: 2025-02-20 19:24:51 -0500 (Thu, 20 Feb 2025) EllapsedTime: 103.1 seconds RetCode: 0 Status: OK PackageFile: spaSim_1.9.0.tar.gz PackageFileSize: 3.439 MiB